BEGIN:VCALENDAR
VERSION:2.0
PRODID:-//Tukios.com/
BEGIN:VEVENT
UID:ad905f69-a0cb-4f62-b1cc-2cf7674f1656@www.winterrowdfh.com
DTSTAMP:20260426T030940Z
DTSTART:20260428T210000Z
DTEND:20260428T230000Z
SUMMARY:Visitation
DESCRIPTION:
URL:https://www.winterrowdfh.com/obituaries/phillip-verchimak
LOCATION: 305 S Park St  Streator IL 61364
GEO:41.1174597;-88.8337621
END:VEVENT
END:VCALENDAR