BEGIN:VCALENDAR
VERSION:2.0
PRODID:-//Tukios.com/
BEGIN:VEVENT
UID:6288de1d-0f75-4722-ad28-726a703bfc7e@www.winterrowdfh.com
DTSTAMP:20260422T171523Z
DTSTART:20260425T180000Z
DTEND:20260425T190000Z
SUMMARY:Burial
DESCRIPTION:
URL:https://www.winterrowdfh.com/obituaries/pamela-pfalzgraf
LOCATION:  E Main St  Streator IL 61364
GEO:41.1210034;-88.8219696
END:VEVENT
END:VCALENDAR