BEGIN:VCALENDAR
VERSION:2.0
PRODID:-//Tukios.com/
BEGIN:VEVENT
UID:2489cd53-4ecc-4018-887f-6a85b2c20d3f@www.winterrowdfh.com
DTSTAMP:20260422T171112Z
DTSTART:20260425T170000Z
DTEND:20260425T180000Z
SUMMARY:Funeral Service
DESCRIPTION:
URL:https://www.winterrowdfh.com/obituaries/pamela-pfalzgraf
LOCATION: 305 S Park St  Streator IL 61364
GEO:41.1174597;-88.8337621
END:VEVENT
END:VCALENDAR