BEGIN:VCALENDAR
VERSION:2.0
PRODID:-//Tukios.com/
BEGIN:VEVENT
UID:f7563987-28ca-4387-aed6-9e0fab57e17b@www.winterrowdfh.com
DTSTAMP:20260422T171419Z
DTSTART:20260425T150000Z
DTEND:20260425T170000Z
SUMMARY:Visitation
DESCRIPTION:
URL:https://www.winterrowdfh.com/obituaries/pamela-pfalzgraf
LOCATION: 305 S Park St  Streator IL 61364
GEO:41.1174597;-88.8337621
END:VEVENT
END:VCALENDAR