BEGIN:VCALENDAR
VERSION:2.0
PRODID:-//Tukios.com/
BEGIN:VEVENT
UID:5fb3c6da-dd53-4916-be39-b949375a2e84@www.winterrowdfh.com
DTSTAMP:20260422T180924Z
DTSTART:20260429T160000Z
DTEND:20260429T170000Z
SUMMARY:Burial
DESCRIPTION:
URL:https://www.winterrowdfh.com/obituaries/kenneth-libby
LOCATION: 1541 E 16th Rd  Streator IL 61364
GEO:41.155779;-88.8549657
END:VEVENT
END:VCALENDAR