BEGIN:VCALENDAR
VERSION:2.0
PRODID:-//Tukios.com/
BEGIN:VEVENT
UID:e345a4bf-c9c6-4d8d-9f3e-c558c16d7a6c@www.winterrowdfh.com
DTSTAMP:20260422T181055Z
DTSTART:20260427T230000Z
DTEND:20260428T000000Z
SUMMARY:Funeral Service
DESCRIPTION:
URL:https://www.winterrowdfh.com/obituaries/kenneth-libby
LOCATION: 305 S Park St  Streator IL 61364
GEO:41.1174597;-88.8337621
END:VEVENT
END:VCALENDAR