BEGIN:VCALENDAR
VERSION:2.0
PRODID:-//Tukios.com/
BEGIN:VEVENT
UID:265b5142-70a7-4141-b357-571ead5304cd@www.winterrowdfh.com
DTSTAMP:20260422T180956Z
DTSTART:20260427T210000Z
DTEND:20260427T230000Z
SUMMARY:Visitation
DESCRIPTION:
URL:https://www.winterrowdfh.com/obituaries/kenneth-libby
LOCATION: 305 S Park St  Streator IL 61364
GEO:41.1174597;-88.8337621
END:VEVENT
END:VCALENDAR