BEGIN:VCALENDAR
VERSION:2.0
PRODID:-//Tukios.com/
BEGIN:VEVENT
UID:a7c7899f-00b7-4d93-8ef2-8007205292fe@www.winterrowdfh.com
DTSTAMP:20260422T223006Z
DTSTART:20260427T170000Z
DTEND:20260427T180000Z
SUMMARY:Funeral Service
DESCRIPTION:
URL:https://www.winterrowdfh.com/obituaries/james-tate-taylor
LOCATION: 305 S Park St  Streator IL 61364
GEO:41.1174597;-88.8337621
END:VEVENT
END:VCALENDAR