BEGIN:VCALENDAR
VERSION:2.0
PRODID:-//Tukios.com/
BEGIN:VEVENT
UID:f30c4677-beeb-4ccd-ad6d-a6c0935842a1@www.winterrowdfh.com
DTSTAMP:20260422T222944Z
DTSTART:20260427T150000Z
DTEND:20260427T170000Z
SUMMARY:Visitation
DESCRIPTION:
URL:https://www.winterrowdfh.com/obituaries/james-tate-taylor
LOCATION: 305 S Park St  Streator IL 61364
GEO:41.1174597;-88.8337621
END:VEVENT
END:VCALENDAR