BEGIN:VCALENDAR
VERSION:2.0
PRODID:-//Tukios.com/
BEGIN:VEVENT
UID:cc63f0a9-12e4-46b8-9ad5-69fc34a1630d@www.winterrowdfh.com
DTSTAMP:20260423T203653Z
DTSTART:20260425T160000Z
DTEND:20260425T170000Z
SUMMARY:Celebration of Life
DESCRIPTION:
URL:https://www.winterrowdfh.com/obituaries/annabel-lambert
LOCATION: 1902 S. Church St.  Streator IL 61364
GEO:41.0967403;-88.8366642
END:VEVENT
END:VCALENDAR